BEGIN:VCALENDAR
VERSION:2.0
PRODID:-//ChamberMaster//Event Calendar 2.0//EN
METHOD:PUBLISH
X-PUBLISHED-TTL:P3D
REFRESH-INTERVAL:P3D
CALSCALE:GREGORIAN
BEGIN:VEVENT
DTSTART:20260507T150000Z
DTEND:20260507T180000Z
X-MICROSOFT-CDO-ALLDAYEVENT:FALSE
SUMMARY:The Opportunity Exchange In-Person Event at Manchester Community College
DESCRIPTION:There is limited space available at this event\, so register early to secure your spot!\n\nThis job fair is for job seekers looking for a job opportunity in the Capital and Southern Regions of New Hampshire. Whether it be a first job\, the first time having to seek employment in multiple years or looking to change career paths\, there will be positions of varying levels in multiple industries. Job seeker resources will also be in attendance to discuss what resources are out there to assist in changing careers\, obtaining certificates or finishing a degree.\n\nPlease read all details below prior to registering to attend.\n\nThis event is free\; employers MUST register. Job seekers are strongly encouraged to register.\n\nShould you need accommodations please reach out to JobFair@nhes.nh.gov\n\nBefore the Event:\n\nRegister to attend by clicking either the Job Seeker or Employer/Resource registration above.\n\nPlease be sure to type your email address correctly.\n\n\n\nEmployers:\n\nInformation you provide will be included on a detailed guide and sent to all registered job seekers and available on our website. Employer registration closes 72 hours prior to the start of this event unless we reach max capacity.\n\n      Space for Employers is limited\, register today!      \n\nResources:\n\nPlease register as an employer and put a 0 or N/A in the fields that are not pertinent to you.\n\nJob Seekers:\n\nA basic list of attending employers will be shown below and updated weekly. A detailed guide will then be available once registration for employers closes. It will also be emailed to all who register.\n\nEmployers\, Resources and Job Seekers:\n\nYou will receive instructions via email from JobFair@nhes.nh.gov prior to the event with instructions on parking\, set up times and other important information. \n\nHave questions or looking for more information about this event?\n\nEmail JobFair@nhes.nh.gov or call Donna Long at 603-229-4355\n\nWe look forward to seeing you all at this In Person event!\n\nRegistered Employers as of 4/8/2026:\n\nABA Centers of America\n\nAge at Home\n\nBalance Staffing\n\nCanobie Lake Park\n\nCentra-Larm\n\nCity of Manchester\n\nCoca-Cola Beverages Northeast\n\nCVS\n\nDurham School Services\n\nEaster Seals NH & VT\n\nElite Educational Institute\n\nEliot Health System\n\nEminence Home Care\n\nFirst Student\n\nGenesis HealthCare\n\nGranite Pathways\n\nGuardian Home Care of NH\n\nIndependent Services Network\, Inc.\n\nInter-Con Security Systems\n\nLeddy Group\n\nLiving Innovations Support Services\n\nMcLane Company\n\nNew England Industries \n\nNew York Life Insurance\n\nNSD Metal - James F Mullen Co.\n\nObayashi Corporation\n\nPCI Pharma Services\n\nPortsmouth Naval Shipyard\n\nPrime Communications\n\nProject SEARCH-CSD\n\nRevolution Cabinetry\n\nSIG SAUER\n\nSt. Joseph Hospital\n\nVelcro USA\n\nWalmart\n\nWatts Water Technologies\n\nWilcox Industries\n\nResources:\n\nApprenticeshipNH\n\nNew Hampshire Employment Security\n\nManchester Community College\n\nVR New Hampshire\n\nWIOA Adult Program\n\nWorkReadyNH
X-ALT-DESC;FMTTYPE=text/html:<p><em>There is limited space available at this event\, so register early to secure your spot!</em></p>\n\n<p>This job fair is for job seekers looking for a job opportunity in the Capital and Southern Regions of New Hampshire. Whether it be a first job\, the first time having to seek employment in multiple years or looking to change career paths\, there will be positions of varying levels in multiple industries. Job seeker resources will also be in attendance to discuss what resources are out there to assist in changing careers\, obtaining certificates or finishing a degree.</p>\n\n<p>Please read all details below prior to registering to attend.</p>\n\n<p>This event is&nbsp\;free\; employers&nbsp\;MUST&nbsp\;register. Job seekers are strongly encouraged to register.</p>\n\n<p>Should you need accommodations please reach out to&nbsp\;<a href="mailto:JobFair@nhes.nh.gov" style="box-sizing: border-box\; background-color: transparent\; color: rgb(0\, 71\, 133)\; transition: color 0.5s\;">JobFair@nhes.nh.gov</a></p>\n\n<p>Before the Event:<br />\nRegister to attend by clicking either the Job Seeker or Employer/Resource registration above.</p>\n\n<p><em>Please be sure to type your email address correctly</em>.<br />\n<br />\nEmployers:<br />\nInformation you provide will be included on a detailed guide and sent to all registered job seekers and available on our website. Employer registration closes 72 hours prior to the start of this event unless we reach max capacity.</p>\n\n<p>&gt\; &gt\; &gt\; Space for Employers is limited\, register today! &lt\; &lt\; &lt\;</p>\n\n<p>Resources:<br />\nPlease register as an employer and put a 0 or N/A in the fields that are not pertinent to you.</p>\n\n<p>Job Seekers:<br />\nA basic list of attending employers will be shown below and updated weekly. A detailed guide will then be available once registration for employers closes. It will also be emailed to all who register.</p>\n\n<p>Employers\, Resources and Job Seekers:<br />\nYou will receive instructions via email from&nbsp\;<a href="mailto:JobFair@nhes.nh.gov" style="box-sizing: border-box\; background-color: transparent\; color: rgb(0\, 71\, 133)\; transition: color 0.5s\;">JobFair@nhes.nh.gov</a>&nbsp\;prior to the event with instructions on parking\, set up times and other important information.&nbsp\;</p>\n\n<p>Have questions or looking for more information about this event?<br />\nEmail&nbsp\;<a href="mailto:JobFair@nhes.nh.gov" style="box-sizing: border-box\; background-color: transparent\; color: rgb(0\, 71\, 133)\; transition: color 0.5s\;">JobFair@nhes.nh.gov</a>&nbsp\;or call Donna Long at&nbsp\;<a href="tel:+16032294355" style="box-sizing: border-box\; background-color: transparent\; color: rgb(0\, 71\, 133)\; transition: color 0.5s\;">603-229-4355</a></p>\n\n<p>We look forward to seeing you all at this In Person event!</p>\n\n<p>Registered Employers as of 4/8/2026:<br />\nABA Centers of America<br />\nAge at Home<br />\nBalance Staffing<br />\nCanobie Lake Park<br />\nCentra-Larm<br />\nCity of Manchester<br />\nCoca-Cola Beverages Northeast<br />\nCVS<br />\nDurham School Services<br />\nEaster Seals NH &amp\; VT<br />\nElite Educational Institute<br />\nEliot Health System<br />\nEminence Home Care<br />\nFirst Student<br />\nGenesis HealthCare<br />\nGranite Pathways<br />\nGuardian Home Care of NH<br />\nIndependent Services Network\, Inc.<br />\nInter-Con Security Systems<br />\nLeddy Group<br />\nLiving Innovations Support Services<br />\nMcLane Company<br />\nNew England Industries&nbsp\;<br />\nNew York Life Insurance<br />\nNSD Metal - James F Mullen Co.<br />\nObayashi Corporation<br />\nPCI Pharma Services<br />\nPortsmouth Naval Shipyard<br />\nPrime Communications<br />\nProject SEARCH-CSD<br />\nRevolution Cabinetry<br />\nSIG SAUER<br />\nSt. Joseph Hospital<br />\nVelcro USA<br />\nWalmart<br />\nWatts Water Technologies<br />\nWilcox Industries</p>\n\n<p>Resources:<br />\nApprenticeshipNH<br />\nNew Hampshire Employment Security<br />\nManchester Community College<br />\nVR New Hampshire<br />\nWIOA Adult Program<br />\nWorkReadyNH</p>\n
LOCATION:Manchester Community College 1066 Front Street Manchester\, NH 03102
UID:e.2261.9823
SEQUENCE:3
DTSTAMP:20260421T132915Z
URL:https://business.manchester-chamber.org/events/details/the-opportunity-exchange-in-person-event-at-manchester-community-college-05-07-2026-9823
END:VEVENT

END:VCALENDAR
